BEGIN:VCALENDAR
VERSION:2.0
PRODID:-//hacksw/handcal//NONSGML v1.0//EN
CALSCALE:GREGORIAN
BEGIN:VEVENT
LOCATION:50.200 MHz USB For more information\, Contact Rick Dupree NN2K
DESCRIPTION:
DTSTART:20260429T210000
DTEND:20260429T220000
SUMMARY:Six Meter Net
URL:
DTSTAMP:20260425T233313
UID:69ed87797707b
END:VEVENT
END:VCALENDAR